BEGIN:VCALENDAR
VERSION:2.0
PRODID:-//Schützenverein St. Hubertus Teglingen 1906 e.V. - ECPv5.10.0//NONSGML v1.0//EN
CALSCALE:GREGORIAN
METHOD:PUBLISH
X-WR-CALNAME:Schützenverein St. Hubertus Teglingen 1906 e.V.
X-ORIGINAL-URL:https://www.schuetzenverein-teglingen.de
X-WR-CALDESC:Veranstaltungen für Schützenverein St. Hubertus Teglingen 1906 e.V.
BEGIN:VTIMEZONE
TZID:Europe/Berlin
BEGIN:DAYLIGHT
TZOFFSETFROM:+0100
TZOFFSETTO:+0200
TZNAME:CEST
DTSTART:20260329T010000
END:DAYLIGHT
BEGIN:STANDARD
TZOFFSETFROM:+0200
TZOFFSETTO:+0100
TZNAME:CET
DTSTART:20261025T010000
END:STANDARD
END:VTIMEZONE
BEGIN:VEVENT
DTSTART;TZID=Europe/Berlin:20260530T183000
DTEND;TZID=Europe/Berlin:20260531T030000
DTSTAMP:20260420T101706
CREATED:20260408T054832Z
LAST-MODIFIED:20260408T054832Z
UID:1037-1780165800-1780196400@www.schuetzenverein-teglingen.de
SUMMARY:6.Teglinger Flunkyball-Turnier
DESCRIPTION:Hier die wichtigsten Fragen und Antworten: \n Wann geht’s los? \nAb 18.30 Uhr: Beginn des 6.Teglinger Flunkyball-Turniers im Festzelt. \n Wie sind die Teilnahmebedingungen? \n– Eine Mannschaft besteht aus 6 Spielern (5+Teamkapitän).\n– Das Mindestalter der Teilnehmer beträgt 16 Jahre.\n– Es ist eine Anmeldung über das nachfolgende Anmeldeformular nötig.\n– Anmeldeschluss: Sonntag\, 24. Mai 2026 !!!\n– Bei weiteren Fragen:  flunkyballturnier2026@schuetzenverein-teglingen.de \n Gibt es etwas zu gewinnen? \nDie Teams der Plätze 1 und 2 erwarten attraktive Preise! \n Wo kann ich mich anmelden? \nNutzen Sie das nachfolgende Formular\, um sich für das 6.Teglinger Flunkyball-Turnier anzumelden: \n\n    	\n        \n\n		\n\n	\n\n		\n		\n		\n		\n			\n			\n	\n\n    	Name des Teams:*\n	    \n				\n						\n\n\n\n    	Name des Teamkapitäns:*\n	    \n				\n						\n\n\n\n    	E-Mail-Adresse:*\n	    \n				\n						\n\n\n\n    	Mobilnummer (WhatsApp fähig\, z.B. 01601234567\, 11- oder 12-stellig):*\n	    \n				\n						\n\n\n\n        \n		            \n                Sie erklären sich damit einverstanden\, dass Ihre Daten zur Bearbeitung Ihres Anliegens verwendet werden. Weitere Informationen finden Sie in der Datenschutzerklärung. Eine Kopie Ihrer Nachricht wird an Ihre E-Mail-Adresse geschickt.*\n            \n							\n\n\n\n    	Was ist 5 + 4*\n	    \n				\n						\n\n\n		\n\n		\n			Comments\n			\n				\n				Wenn Sie ein Mensch sind\, füllen Sie dieses Feld nicht aus \n			\n		\n\n		\n			\n		\n\n	\n\n	\n			\n\n\n	\n\n \nWas kostet der Eintritt? \nDer Eintrittspreis für das Flunkyballturnier beträgt 8 Euro.
URL:https://www.schuetzenverein-teglingen.de/event/6-teglinger-flunkyball-turnier/
LOCATION:Schützenplatz Teglingen\, Zum Wasserfall\, Meppen-Teglingen\, 49716\, Deutschland
END:VEVENT
END:VCALENDAR